BEGIN:VCALENDAR
VERSION:2.0
PRODID: -//CMS 5.0 //NONSGML //DE
BEGIN:VEVENT
SUMMARY:Videogottesdienst und Telefon Nord- und Ostdeutschland
DESCRIPTION:Videogottesdienst und Telefon Nord- und Ostdeutschland\n\nht
 tps://bezirk-flensburg.nak-nordost.de/videogottesdienst\n\nhttps://www.
 youtube.com/watch?v=wZP1v_1Klok\n\nDer Telefongottesdienst kann am Sonn
 tag und Mittwoch, wechselnd aus der Gemeinde Flensburg, Husum oder Rend
 sburg miterlebt werden.\nZugangsdaten:\nEinwahlnummer: 0461 402 148 000
  oder 033 214 140 000\nKonferenzraum: 85257#\nEinwahl-Pin: 147 334#\n\n
  \n\n \n\n \n\n \n\n \n\n \n\n \n\n \n\n \n\n \n\n \n\n \n\n \n\n \n\n 
 \n\n \n\n \n\n \n\n \n\n \n\n \n\n \n\n \n\n\n\nhttps://rendsburg.nak-n
 ordost.de/db/597716
UID:597716@rendsburg.nak-nordost.de
LOCATION:
CATEGORIES:Kirchenbezirk Flensburg,Kirchenbezirk Flensburg (Alle Gemeinden)
X-ORGANIZER:
STATUS:CONFIRMED
CLASS:PUBLIC
DTSTART;VALUE=DATE:20260426
DTEND;VALUE=DATE:20260427
DTSTAMP:20260420T063105Z
CREATED:20260401T175552Z
LAST-MODIFIED:20260401T175552Z
BEGIN:VALARM
UID:8251453A-3C82-11F1-8D6C-06525229324C
TRIGGER:-PT60M
ACTION:DISPLAY
DESCRIPTION:SUMMARY:Videogottesdienst und Telefon Nord- und Ostdeutschland
END:VALARM
END:VEVENT
END:VCALENDAR
