BEGIN:VCALENDAR
VERSION:2.0
PRODID: -//CMS 5.0 //NONSGML //DE
BEGIN:VEVENT
SUMMARY:Jugendstunde
DESCRIPTION:\n\nhttps://rendsburg.nak-nordost.de/db/588383
UID:588383@rendsburg.nak-nordost.de
LOCATION:
CATEGORIES:Kirchenbezirk Flensburg (Alle Gemeinden),Kirchenbezirk Flensburg
X-ORGANIZER:
STATUS:CONFIRMED
CLASS:PUBLIC
DTSTART:20260424T173000Z
DTEND:20260424T173000Z
DTSTAMP:20260420T062712Z
CREATED:20260225T192930Z
LAST-MODIFIED:20260225T192930Z
BEGIN:VALARM
UID:F7B71F94-3C81-11F1-BD4F-3D485229324C
TRIGGER:-PT60M
ACTION:DISPLAY
DESCRIPTION:SUMMARY:Jugendstunde
END:VALARM
END:VEVENT
END:VCALENDAR
